BEGIN:VCALENDAR
VERSION:2.0
PRODID:-//destination.one//NONSGML destination.meta API//DE
X-WR-CALDESC:A calendar powered by destination.meta
X-WR-CALNAME:kiel-sailing-city Kalender via destination.meta
BEGIN:VEVENT
CATEGORIES:Ausstellung
DESCRIPTION:Ausstellung zu Havelländischer Malerkolonie und Schwielowsee-La
 ndschaft im Künstlermuseum Heikendorf\n\nmehr Informationen unter http://p
 ages.destination.one/de/kiel-sailing-city/streaming/detail/Event/e_1012603
 79/rund-um-den-schwielowsee-die-havell-ndische-malerkolonie
DTEND;TZID=Europe/Berlin:20260606T170000
DTSTAMP:20260424T075032Z
DTSTART;TZID=Europe/Berlin:20260606T140000
GEO:54.367960;10.203785
LOCATION:Künstlermuseum Heikendorf\, Teichtor 9\, Heikendorf
ORGANIZER;CN=Künstlermuseum Heikendorf:mailto:postfach@kuenstlermuseumheike
 ndorf.de
RRULE:FREQ=WEEKLY;UNTIL=20260830T120000;BYDAY=TH,FR,SA
SEQUENCE:0
SUMMARY:Rund um den Schwielowsee. Die Havelländische Malerkolonie
UID:e_101260379_iv0
URL:http://pages.destination.one/de/kiel-sailing-city/streaming/detail/Even
 t/e_101260379/rund-um-den-schwielowsee-die-havell-ndische-malerkolonie
END:VEVENT
BEGIN:VEVENT
CATEGORIES:Ausstellung
DESCRIPTION:Ausstellung zu Havelländischer Malerkolonie und Schwielowsee-La
 ndschaft im Künstlermuseum Heikendorf\n\nmehr Informationen unter http://p
 ages.destination.one/de/kiel-sailing-city/streaming/detail/Event/e_1012603
 79/rund-um-den-schwielowsee-die-havell-ndische-malerkolonie
DTEND;TZID=Europe/Berlin:20260607T170000
DTSTAMP:20260424T075032Z
DTSTART;TZID=Europe/Berlin:20260607T110000
GEO:54.367960;10.203785
LOCATION:Künstlermuseum Heikendorf\, Teichtor 9\, Heikendorf
ORGANIZER;CN=Künstlermuseum Heikendorf:mailto:postfach@kuenstlermuseumheike
 ndorf.de
RRULE:FREQ=WEEKLY;UNTIL=20260830T090000;BYDAY=SU
SEQUENCE:0
SUMMARY:Rund um den Schwielowsee. Die Havelländische Malerkolonie
UID:e_101260379_iv1
URL:http://pages.destination.one/de/kiel-sailing-city/streaming/detail/Even
 t/e_101260379/rund-um-den-schwielowsee-die-havell-ndische-malerkolonie
END:VEVENT
BEGIN:VTIMEZONE
TZID:Europe/Berlin
X-LIC-LOCATION:Europe/Berlin
BEGIN:DAYLIGHT
DTSTART:19700329T020000
RRULE:FREQ=YEARLY;BYDAY=-1SU;BYMONTH=3
TZNAME:CEST
TZOFFSETFROM:+0100
TZOFFSETTO:+0200
END:DAYLIGHT
BEGIN:STANDARD
DTSTART:19701025T030000
RRULE:FREQ=YEARLY;BYDAY=-1SU;BYMONTH=10
TZNAME:CET
TZOFFSETFROM:+0200
TZOFFSETTO:+0100
END:STANDARD
END:VTIMEZONE
END:VCALENDAR
