BEGIN:VCALENDAR
VERSION:2.0
PRODID:-//destination.one//NONSGML destination.meta API//DE
X-WR-CALDESC:A calendar powered by destination.meta
X-WR-CALNAME:kiel-sailing-city Kalender via destination.meta
BEGIN:VEVENT
CATEGORIES:Führung/Besichtigung
CATEGORIES:Kultur
CATEGORIES:Kultursommer
DESCRIPTION:\n\nmehr Informationen unter http://pages.destination.one/de/ki
 el-sailing-city/streaming/detail/Event/e_101260618/er-ffnung-der-ausstellu
 ng-die-stadt-und-ihre-menschen-gem-lde-aus-200-jahren-stadtgeschichte
DTEND;TZID=Europe/Berlin:20260619T190000
DTSTAMP:20260424T074938Z
DTSTART;TZID=Europe/Berlin:20260619T170000
GEO:54.324258;10.141110
LOCATION:Stadtmuseum Warleberger Hof\, Dänische Straße 19\, 24103 Kiel\, Ki
 el
ORGANIZER;CN=Stadt- und Schifffahrtsmuseum:mailto:stadt-undschiffahrtsmuseu
 m@kiel.de
SEQUENCE:0
SUMMARY:Eröffnung der Ausstellung „Die Stadt und ihre Menschen. Gemälde aus
  200 Jahren Stadtgeschichte“
UID:e_101260618_iv0
URL:http://pages.destination.one/de/kiel-sailing-city/streaming/detail/Even
 t/e_101260618/er-ffnung-der-ausstellung-die-stadt-und-ihre-menschen-gem-ld
 e-aus-200-jahren-stadtgeschichte
END:VEVENT
BEGIN:VTIMEZONE
TZID:Europe/Berlin
X-LIC-LOCATION:Europe/Berlin
BEGIN:DAYLIGHT
DTSTART:19700329T020000
RRULE:FREQ=YEARLY;BYDAY=-1SU;BYMONTH=3
TZNAME:CEST
TZOFFSETFROM:+0100
TZOFFSETTO:+0200
END:DAYLIGHT
BEGIN:STANDARD
DTSTART:19701025T030000
RRULE:FREQ=YEARLY;BYDAY=-1SU;BYMONTH=10
TZNAME:CET
TZOFFSETFROM:+0200
TZOFFSETTO:+0100
END:STANDARD
END:VTIMEZONE
END:VCALENDAR
