BEGIN:VCALENDAR
VERSION:2.0
PRODID:-//destination.one//NONSGML destination.meta API//DE
X-WR-CALDESC:A calendar powered by destination.meta
X-WR-CALNAME:kiel-sailing-city Kalender via destination.meta
BEGIN:VEVENT
CATEGORIES:Führung/Besichtigung
CATEGORIES:Kinderprogramm
CATEGORIES:Kultursommer
DESCRIPTION:Ferienspaß für Kinder ab 8 Jahren im Tierpark Neumünster\n\nmeh
 r Informationen unter http://pages.destination.one/de/kiel-sailing-city/st
 reaming/detail/Event/e_101260662/sommerferienprogramm-im-tierpark
DTEND;TZID=Europe/Berlin:20260713T143000
DTSTAMP:20260424T091326Z
DTSTART;TZID=Europe/Berlin:20260713T090000
GEO:54.089589;9.946272
LOCATION:Tierpark Neumünster\, Geerdtsstraße 100\, Neumünster
ORGANIZER;CN=Tierpark Neumünster:mailto:info@tierparkneumuenster.de
RRULE:FREQ=WEEKLY;UNTIL=20260724T070000;BYDAY=MO,TU,WE,TH,FR
SEQUENCE:0
SUMMARY:Sommerferienprogramm im Tierpark
UID:e_101260662_iv0
URL:http://pages.destination.one/de/kiel-sailing-city/streaming/detail/Even
 t/e_101260662/sommerferienprogramm-im-tierpark
END:VEVENT
BEGIN:VTIMEZONE
TZID:Europe/Berlin
X-LIC-LOCATION:Europe/Berlin
BEGIN:DAYLIGHT
DTSTART:19700329T020000
RRULE:FREQ=YEARLY;BYDAY=-1SU;BYMONTH=3
TZNAME:CEST
TZOFFSETFROM:+0100
TZOFFSETTO:+0200
END:DAYLIGHT
BEGIN:STANDARD
DTSTART:19701025T030000
RRULE:FREQ=YEARLY;BYDAY=-1SU;BYMONTH=10
TZNAME:CET
TZOFFSETFROM:+0200
TZOFFSETTO:+0100
END:STANDARD
END:VTIMEZONE
END:VCALENDAR
